BEGIN:VCALENDAR
VERSION:2.0
PRODID:-//Adspem - Fidas - ECPv4.8.0.1//NONSGML v1.0//EN
CALSCALE:GREGORIAN
METHOD:PUBLISH
X-WR-CALNAME:Adspem - Fidas
X-ORIGINAL-URL:http://www.adspem.it
X-WR-CALDESC:Eventi per Adspem - Fidas
BEGIN:VEVENT
DTSTART;TZID=Europe/Rome:20231203T080000
DTEND;TZID=Europe/Rome:20231203T110000
DTSTAMP:20260419T190021
CREATED:20231201T074413Z
LAST-MODIFIED:20231201T074413Z
UID:4585-1701590400-1701601200@www.adspem.it
SUMMARY:Autoemoteca Sezione S. Eufemia D' Aspromonte
DESCRIPTION:
URL:http://www.adspem.it/evento/autoemoteca-sezione-s-eufemia-d-aspromonte/
CATEGORIES:Autoemoteca
END:VEVENT
END:VCALENDAR