BEGIN:VCALENDAR
VERSION:2.0
PRODID:-//Adspem - Fidas - ECPv4.8.0.1//NONSGML v1.0//EN
CALSCALE:GREGORIAN
METHOD:PUBLISH
X-WR-CALNAME:Adspem - Fidas
X-ORIGINAL-URL:http://www.adspem.it
X-WR-CALDESC:Eventi per Adspem - Fidas
BEGIN:VEVENT
DTSTART;TZID=Europe/Rome:20190629T080000
DTEND;TZID=Europe/Rome:20190629T110000
DTSTAMP:20260419T192129
CREATED:20190607T074337Z
LAST-MODIFIED:20190607T074337Z
UID:3335-1561795200-1561806000@www.adspem.it
SUMMARY:Autoemoteca a Mosorrofa
DESCRIPTION:dspem comunica che l’autoemoteca sarà a : \n– Chiesa S. Demetrio – Mosorrofa  (RC)\, \n– Sabato 29 giugno 2019\, \n– dalle ore 8:00 alle 11:00\, \nI donatori interessati\, potranno contattarci per la prenotazione\, oppure recarsi direttamente in loco a digiuno. \nVi aspettiamo!! \n
URL:http://www.adspem.it/evento/autoemoteca-a-mosorrofa/
LOCATION:Mosorrofa\, Via Notaro\, 38\, Reggio Calabria\, italy
CATEGORIES:Autoemoteca
ATTACH;FMTTYPE=image/jpeg:http://www.adspem.it/wp-content/uploads/2019/05/Autoemoteca.jpg
ORGANIZER;CN="Adspem":MAILTO:adspem.fidasrc@adspem.it
END:VEVENT
END:VCALENDAR