BEGIN:VCALENDAR
VERSION:2.0
PRODID:-//Adspem - Fidas - ECPv4.8.0.1//NONSGML v1.0//EN
CALSCALE:GREGORIAN
METHOD:PUBLISH
X-WR-CALNAME:Adspem - Fidas
X-ORIGINAL-URL:http://www.adspem.it
X-WR-CALDESC:Eventi per Adspem - Fidas
BEGIN:VEVENT
DTSTART;TZID=Europe/Rome:20190317T080000
DTEND;TZID=Europe/Rome:20190317T113000
DTSTAMP:20260420T024412
CREATED:20190221T170217Z
LAST-MODIFIED:20190221T170217Z
UID:2979-1552809600-1552822200@www.adspem.it
SUMMARY:Autoemoteca ad Arghillà RC
DESCRIPTION:Adspem comunica che l’autoemoteca sarà a : \n– Arghillà (RC)\, \n– Domenica 17 Marzo 2019\, \n– dalle ore 8:00 alle 11:30\, \nI donatori interessati\, potranno contattarci per la prenotazione\, oppure recarsi direttamente in loco a digiuno. \nVi aspettiamo!! \n
URL:http://www.adspem.it/evento/autoemoteca-ad-arghilla-rc/
LOCATION:Arghillà RC\, Arghillà\, Reggio Calabria\, 89135\, Italy
CATEGORIES:Autoemoteca
ATTACH;FMTTYPE=image/jpeg:http://www.adspem.it/wp-content/uploads/2019/02/WhatsApp-Image-2019-02-12-at-12.46.56.jpeg
ORGANIZER;CN="Adspem":MAILTO:adspem.fidasrc@adspem.it
END:VEVENT
END:VCALENDAR