BEGIN:VCALENDAR
VERSION:2.0
PRODID:-//Adspem - Fidas - ECPv4.8.0.1//NONSGML v1.0//EN
CALSCALE:GREGORIAN
METHOD:PUBLISH
X-WR-CALNAME:Adspem - Fidas
X-ORIGINAL-URL:http://www.adspem.it
X-WR-CALDESC:Eventi per Adspem - Fidas
BEGIN:VEVENT
DTSTART;TZID=Europe/Rome:20210703T080000
DTEND;TZID=Europe/Rome:20210703T110000
DTSTAMP:20260425T105425
CREATED:20210625T093656Z
LAST-MODIFIED:20210625T093656Z
UID:4078-1625299200-1625310000@www.adspem.it
SUMMARY:Autoemoteca Melito P.S.
DESCRIPTION:
URL:http://www.adspem.it/evento/autoemoteca-melito-p-s-10/
CATEGORIES:Autoemoteca
END:VEVENT
END:VCALENDAR