BEGIN:VCALENDAR
VERSION:2.0
PRODID:-//Adspem - Fidas - ECPv4.8.0.1//NONSGML v1.0//EN
CALSCALE:GREGORIAN
METHOD:PUBLISH
X-WR-CALNAME:Adspem - Fidas
X-ORIGINAL-URL:http://www.adspem.it
X-WR-CALDESC:Eventi per Adspem - Fidas
BEGIN:VEVENT
DTSTART;TZID=Europe/Rome:20230514T080000
DTEND;TZID=Europe/Rome:20230514T110000
DTSTAMP:20260421T034517
CREATED:20230504T160502Z
LAST-MODIFIED:20230504T160502Z
UID:4372-1684051200-1684062000@www.adspem.it
SUMMARY:Autoemoteca Scilla
DESCRIPTION:
URL:http://www.adspem.it/evento/autoemoteca-scilla-6/
CATEGORIES:Autoemoteca
END:VEVENT
END:VCALENDAR